BEGIN:VCALENDAR
VERSION:2.0
PRODID:-//Plone.org//NONSGML plone.app.event//EN
X-WR-TIMEZONE:Europe/Madrid
BEGIN:VEVENT
SUMMARY:Junta de Govern Local
DTSTART;TZID=Europe/Madrid;VALUE=DATE-TIME:20221205T093000
DTEND;TZID=Europe/Madrid;VALUE=DATE-TIME:20221205T100000
DTSTAMP;VALUE=DATE-TIME:20260426T063601Z
UID:ce4dc84d03c742278ef5d3c331783f91@www.molletvalles.cat
CREATED;VALUE=DATE-TIME:20230125T120623Z
LAST-MODIFIED;VALUE=DATE-TIME:20230125T120633Z
LOCATION:Ajuntament de Mollet del Vallès
URL:https://www.molletvalles.cat/ca/l-ajuntament/lalcaldessa/agenda/junta-
 de-govern-local-2/2022-12-05
END:VEVENT
BEGIN:VTIMEZONE
TZID:Europe/Madrid
X-LIC-LOCATION:Europe/Madrid
BEGIN:STANDARD
DTSTART;VALUE=DATE-TIME:20221030T020000
TZNAME:CET
TZOFFSETFROM:+0200
TZOFFSETTO:+0100
END:STANDARD
END:VTIMEZONE
END:VCALENDAR
