BEGIN:VCALENDAR
VERSION:2.0
PRODID:-//Plone.org//NONSGML plone.app.event//EN
X-WR-TIMEZONE:Europe/Madrid
BEGIN:VEVENT
SUMMARY:Lectura del manifest del Dia dels Drets dels Infants
DTSTART;TZID=Europe/Madrid;VALUE=DATE-TIME:20221120T113000
DTEND;TZID=Europe/Madrid;VALUE=DATE-TIME:20221120T120000
DTSTAMP;VALUE=DATE-TIME:20260421T140623Z
UID:0f7677ee36cf4e0c8f0d437f26e13922@www.molletvalles.cat
CREATED;VALUE=DATE-TIME:20230130T180740Z
LAST-MODIFIED;VALUE=DATE-TIME:20230130T180902Z
LOCATION:Teatre de Can Gomà
URL:https://www.molletvalles.cat/ca/l-ajuntament/lalcaldessa/agenda/lectur
 a-del-manifest-del-dia-dels-drets-dels-infants
END:VEVENT
BEGIN:VTIMEZONE
TZID:Europe/Madrid
X-LIC-LOCATION:Europe/Madrid
BEGIN:STANDARD
DTSTART;VALUE=DATE-TIME:20221030T020000
TZNAME:CET
TZOFFSETFROM:+0200
TZOFFSETTO:+0100
END:STANDARD
END:VTIMEZONE
END:VCALENDAR
