BEGIN:VCALENDAR
VERSION:2.0
PRODID:-//Plone.org//NONSGML plone.app.event//EN
X-WR-TIMEZONE:Europe/Madrid
BEGIN:VEVENT
SUMMARY:Lectura del Manifest del Dia Internacional contra la LGTBIfòbia
DTSTART;TZID=Europe/Madrid;VALUE=DATE-TIME:20240517T120000
DTEND;TZID=Europe/Madrid;VALUE=DATE-TIME:20240517T130000
DTSTAMP;VALUE=DATE-TIME:20260425T155146Z
UID:e4bfab588ec14f7b8e77c460deb47faf@www.molletvalles.cat
CREATED;VALUE=DATE-TIME:20240527T123338Z
LAST-MODIFIED;VALUE=DATE-TIME:20240527T123341Z
LOCATION:Plaça Major\, 1
URL:https://www.molletvalles.cat/ca/l-ajuntament/lalcaldessa/agenda/lectur
 a-del-manifest-del-dia-internacional-contra-la-lgtbifobia
END:VEVENT
BEGIN:VTIMEZONE
TZID:Europe/Madrid
X-LIC-LOCATION:Europe/Madrid
BEGIN:DAYLIGHT
DTSTART;VALUE=DATE-TIME:20240331T030000
TZNAME:CEST
TZOFFSETFROM:+0100
TZOFFSETTO:+0200
END:DAYLIGHT
END:VTIMEZONE
END:VCALENDAR
