BEGIN:VCALENDAR
VERSION:2.0
PRODID:-//Plone.org//NONSGML plone.app.event//EN
X-WR-TIMEZONE:Europe/Madrid
BEGIN:VEVENT
SUMMARY:Lectura del manifest del Dia Mundial de Fibromialgia
DTSTART;TZID=Europe/Madrid;VALUE=DATE-TIME:20240510T110000
DTEND;TZID=Europe/Madrid;VALUE=DATE-TIME:20240510T114500
DTSTAMP;VALUE=DATE-TIME:20260419T220232Z
UID:16170aa66d794ee38b1495834c978baa@www.molletvalles.cat
CREATED;VALUE=DATE-TIME:20240515T075954Z
LAST-MODIFIED;VALUE=DATE-TIME:20240515T075958Z
LOCATION:Plaça Major\, 1
URL:https://www.molletvalles.cat/ca/l-ajuntament/lalcaldessa/agenda/lectur
 a-del-manifest-del-dia-mundial-de-fibromialgia
END:VEVENT
BEGIN:VTIMEZONE
TZID:Europe/Madrid
X-LIC-LOCATION:Europe/Madrid
BEGIN:DAYLIGHT
DTSTART;VALUE=DATE-TIME:20240331T030000
TZNAME:CEST
TZOFFSETFROM:+0100
TZOFFSETTO:+0200
END:DAYLIGHT
END:VTIMEZONE
END:VCALENDAR
