BEGIN:VCALENDAR
VERSION:2.0
PRODID:-//Plone.org//NONSGML plone.app.event//EN
X-WR-TIMEZONE:Europe/Madrid
BEGIN:VEVENT
SUMMARY:Lectura del Manifest del Dia Mundial de la Fibromialgia
DTSTART;TZID=Europe/Madrid;VALUE=DATE-TIME:20230512T120000
DTEND;TZID=Europe/Madrid;VALUE=DATE-TIME:20230512T130000
DTSTAMP;VALUE=DATE-TIME:20260419T162135Z
UID:1d0ea80584094ff29fc1b698e24d526d@www.molletvalles.cat
CREATED;VALUE=DATE-TIME:20230510T102234Z
LAST-MODIFIED;VALUE=DATE-TIME:20230510T102239Z
LOCATION:Plaça Major
URL:https://www.molletvalles.cat/ca/l-ajuntament/lalcaldessa/agenda/lectur
 a-del-manifest-del-dia-mundial-de-la-fibromialgia
END:VEVENT
BEGIN:VTIMEZONE
TZID:Europe/Madrid
X-LIC-LOCATION:Europe/Madrid
BEGIN:DAYLIGHT
DTSTART;VALUE=DATE-TIME:20230326T030000
TZNAME:CEST
TZOFFSETFROM:+0100
TZOFFSETTO:+0200
END:DAYLIGHT
END:VTIMEZONE
END:VCALENDAR
