BEGIN:VCALENDAR
VERSION:2.0
PRODID:-//Plone.org//NONSGML plone.app.event//EN
X-WR-TIMEZONE:Europe/Madrid
BEGIN:VEVENT
SUMMARY:Lectura del manifest del Dia Mundial de la Salut Mental
DTSTART;TZID=Europe/Madrid;VALUE=DATE-TIME:20221010T120000
DTEND;TZID=Europe/Madrid;VALUE=DATE-TIME:20221010T123000
DTSTAMP;VALUE=DATE-TIME:20260425T122152Z
UID:3b6ee1e6a5224cdfaf9bff096cfd5d3d@www.molletvalles.cat
CREATED;VALUE=DATE-TIME:20230201T124237Z
LAST-MODIFIED;VALUE=DATE-TIME:20230201T124240Z
LOCATION:Ajuntament de Mollet del Vallès
URL:https://www.molletvalles.cat/ca/l-ajuntament/lalcaldessa/agenda/lectur
 a-del-manifest-del-dia-mundial-de-la-salut-mental
END:VEVENT
BEGIN:VTIMEZONE
TZID:Europe/Madrid
X-LIC-LOCATION:Europe/Madrid
BEGIN:DAYLIGHT
DTSTART;VALUE=DATE-TIME:20220327T030000
TZNAME:CEST
TZOFFSETFROM:+0100
TZOFFSETTO:+0200
END:DAYLIGHT
END:VTIMEZONE
END:VCALENDAR
