BEGIN:VCALENDAR
VERSION:2.0
PRODID:-//Plone.org//NONSGML plone.app.event//EN
X-WR-TIMEZONE:Europe/Madrid
BEGIN:VEVENT
SUMMARY:Misa i ballada de sardanes (Dia del soci - Tradicions i Costums)
DTSTART;TZID=Europe/Madrid;VALUE=DATE-TIME:20231008T120000
DTEND;TZID=Europe/Madrid;VALUE=DATE-TIME:20231008T130000
DTSTAMP;VALUE=DATE-TIME:20260425T121805Z
UID:25f1b2e05b2b48799ce20f0f59a447b1@www.molletvalles.cat
CREATED;VALUE=DATE-TIME:20231002T115142Z
LAST-MODIFIED;VALUE=DATE-TIME:20231006T112749Z
LOCATION:Església de Sant Vicenç
URL:https://www.molletvalles.cat/ca/l-ajuntament/lalcaldessa/agenda/misa-i
 -ballada-de-sardanes-dia-del-soci-tradicions-i-costums
END:VEVENT
BEGIN:VTIMEZONE
TZID:Europe/Madrid
X-LIC-LOCATION:Europe/Madrid
BEGIN:DAYLIGHT
DTSTART;VALUE=DATE-TIME:20230326T030000
TZNAME:CEST
TZOFFSETFROM:+0100
TZOFFSETTO:+0200
END:DAYLIGHT
END:VTIMEZONE
END:VCALENDAR
