BEGIN:VCALENDAR
VERSION:2.0
PRODID:-//Plone.org//NONSGML plone.app.event//EN
X-WR-TIMEZONE:Europe/Madrid
BEGIN:VEVENT
SUMMARY:Mostra de dansa escola molletana
DTSTART;TZID=Europe/Madrid;VALUE=DATE-TIME:20230429T110000
DTEND;TZID=Europe/Madrid;VALUE=DATE-TIME:20230429T120000
DTSTAMP;VALUE=DATE-TIME:20260421T135735Z
UID:7a7f57252fb7408aa056bb46304c2f4d@www.molletvalles.cat
CREATED;VALUE=DATE-TIME:20230503T100745Z
LAST-MODIFIED;VALUE=DATE-TIME:20230503T100748Z
LOCATION:Parc de Can Mulà
URL:https://www.molletvalles.cat/ca/l-ajuntament/lalcaldessa/agenda/mostra
 -de-dansa-escola-molletana
END:VEVENT
BEGIN:VTIMEZONE
TZID:Europe/Madrid
X-LIC-LOCATION:Europe/Madrid
BEGIN:DAYLIGHT
DTSTART;VALUE=DATE-TIME:20230326T030000
TZNAME:CEST
TZOFFSETFROM:+0100
TZOFFSETTO:+0200
END:DAYLIGHT
END:VTIMEZONE
END:VCALENDAR
