BEGIN:VCALENDAR
VERSION:2.0
PRODID:-//Plone.org//NONSGML plone.app.event//EN
X-WR-TIMEZONE:Europe/Madrid
BEGIN:VEVENT
SUMMARY:Open Memorial Ezequiel Martín
DTSTART;TZID=Europe/Madrid;VALUE=DATE-TIME:20230610T121000
DTEND;TZID=Europe/Madrid;VALUE=DATE-TIME:20230610T131000
DTSTAMP;VALUE=DATE-TIME:20260421T135634Z
UID:13c97c5c045a4d9b9b98ea1d68e9f6ae@www.molletvalles.cat
CREATED;VALUE=DATE-TIME:20230609T123247Z
LAST-MODIFIED;VALUE=DATE-TIME:20230609T123254Z
LOCATION:CC Mercat Vell
URL:https://www.molletvalles.cat/ca/l-ajuntament/lalcaldessa/agenda/open-m
 emorial-ezequiel-martin
END:VEVENT
BEGIN:VTIMEZONE
TZID:Europe/Madrid
X-LIC-LOCATION:Europe/Madrid
BEGIN:DAYLIGHT
DTSTART;VALUE=DATE-TIME:20230326T030000
TZNAME:CEST
TZOFFSETFROM:+0100
TZOFFSETTO:+0200
END:DAYLIGHT
END:VTIMEZONE
END:VCALENDAR
