BEGIN:VCALENDAR
VERSION:2.0
PRODID:-//Plone.org//NONSGML plone.app.event//EN
X-WR-TIMEZONE:Europe/Madrid
BEGIN:VEVENT
SUMMARY:Passejada de Gegants\, Colla gegantera de Mollet i Colla Gegantera
  de Manlleu
DTSTART;TZID=Europe/Madrid;VALUE=DATE-TIME:20240818T190000
DTEND;TZID=Europe/Madrid;VALUE=DATE-TIME:20240818T200000
DTSTAMP;VALUE=DATE-TIME:20260425T154849Z
UID:e03c5a602425457ebb53005cd51637b4@www.molletvalles.cat
CREATED;VALUE=DATE-TIME:20240816T110332Z
LAST-MODIFIED;VALUE=DATE-TIME:20240816T110438Z
LOCATION:Inici Parc de les Pruneres\, Carrer Anselm Clavé\, Carrer Bereng
 uer III\, Av. Llibertat\, Plaça Major (lateral del Mercat)\, Av Jaume I\,
  Rambla Fiveller\, Carrer Barcelona i Plaça Prat de la Riba.
URL:https://www.molletvalles.cat/ca/l-ajuntament/lalcaldessa/agenda/passej
 ada-de-gegants-colla-gegantera-de-mollet-i-colla-gegantera-de-manlleu
END:VEVENT
BEGIN:VTIMEZONE
TZID:Europe/Madrid
X-LIC-LOCATION:Europe/Madrid
BEGIN:DAYLIGHT
DTSTART;VALUE=DATE-TIME:20240331T030000
TZNAME:CEST
TZOFFSETFROM:+0100
TZOFFSETTO:+0200
END:DAYLIGHT
END:VTIMEZONE
END:VCALENDAR
