BEGIN:VCALENDAR
VERSION:2.0
PRODID:-//Plone.org//NONSGML plone.app.event//EN
X-WR-TIMEZONE:Europe/Madrid
BEGIN:VEVENT
SUMMARY:Per Molts Anys 2023 - Espectacle\, del grup de playback de l’Ass
 ociació de Jubilats i Pensionistes de Can Pantiquet - Mamá quiero ser ar
 tista
DTSTART;TZID=Europe/Madrid;VALUE=DATE-TIME:20230516T173000
DTEND;TZID=Europe/Madrid;VALUE=DATE-TIME:20230516T183000
DTSTAMP;VALUE=DATE-TIME:20260423T121453Z
UID:60b07e96d21649b4909343cb52c0677b@www.molletvalles.cat
CREATED;VALUE=DATE-TIME:20230512T104336Z
LAST-MODIFIED;VALUE=DATE-TIME:20230512T104622Z
LOCATION:Teatre de Can Gomà
URL:https://www.molletvalles.cat/ca/l-ajuntament/lalcaldessa/agenda/per-mo
 lts-anys-2023-espectacle-del-grup-de-playback-de-l2019associacio-de-jubila
 ts-i-pensionistes-de-can-pantiquet-mama-quiero-ser-artista
END:VEVENT
BEGIN:VTIMEZONE
TZID:Europe/Madrid
X-LIC-LOCATION:Europe/Madrid
BEGIN:DAYLIGHT
DTSTART;VALUE=DATE-TIME:20230326T030000
TZNAME:CEST
TZOFFSETFROM:+0100
TZOFFSETTO:+0200
END:DAYLIGHT
END:VTIMEZONE
END:VCALENDAR
