BEGIN:VCALENDAR
VERSION:2.0
PRODID:-//Plone.org//NONSGML plone.app.event//EN
X-WR-TIMEZONE:Europe/Madrid
BEGIN:VEVENT
SUMMARY:Per Molts Anys  Obrea de Teatre
DTSTART;TZID=Europe/Madrid;VALUE=DATE-TIME:20250514T183000
DTEND;TZID=Europe/Madrid;VALUE=DATE-TIME:20250514T190000
DTSTAMP;VALUE=DATE-TIME:20260421T135413Z
UID:5ffc875346894a15ab76a546c26fea0b@www.molletvalles.cat
CREATED;VALUE=DATE-TIME:20250516T090900Z
LAST-MODIFIED;VALUE=DATE-TIME:20250516T090908Z
LOCATION:Mercat Vell\, Plaça Prat de la Riba
URL:https://www.molletvalles.cat/ca/l-ajuntament/lalcaldessa/agenda/per-mo
 lts-anys-obrea-de-teatre
END:VEVENT
BEGIN:VTIMEZONE
TZID:Europe/Madrid
X-LIC-LOCATION:Europe/Madrid
BEGIN:DAYLIGHT
DTSTART;VALUE=DATE-TIME:20250330T030000
TZNAME:CEST
TZOFFSETFROM:+0100
TZOFFSETTO:+0200
END:DAYLIGHT
END:VTIMEZONE
END:VCALENDAR
