BEGIN:VCALENDAR
VERSION:2.0
PRODID:-//Plone.org//NONSGML plone.app.event//EN
X-WR-TIMEZONE:Europe/Madrid
BEGIN:VEVENT
SUMMARY:Ple ordinari
DTSTART;TZID=Europe/Madrid;VALUE=DATE-TIME:20260427T180000
DTEND;TZID=Europe/Madrid;VALUE=DATE-TIME:20260427T220000
DTSTAMP;VALUE=DATE-TIME:20260423T172740Z
UID:81933fbc7b3049dd84721132e5f4a973@www.molletvalles.cat
CREATED;VALUE=DATE-TIME:20260423T082717Z
LAST-MODIFIED;VALUE=DATE-TIME:20260423T082724Z
LOCATION:Ajuntament Mollet del Vallès
URL:https://www.molletvalles.cat/ca/l-ajuntament/lalcaldessa/agenda/ple-or
 dinari-25
END:VEVENT
BEGIN:VTIMEZONE
TZID:Europe/Madrid
X-LIC-LOCATION:Europe/Madrid
BEGIN:DAYLIGHT
DTSTART;VALUE=DATE-TIME:20260329T030000
TZNAME:CEST
TZOFFSETFROM:+0100
TZOFFSETTO:+0200
END:DAYLIGHT
END:VTIMEZONE
END:VCALENDAR
