BEGIN:VCALENDAR
VERSION:2.0
PRODID:-//Plone.org//NONSGML plone.app.event//EN
X-WR-TIMEZONE:Europe/Madrid
BEGIN:VEVENT
SUMMARY:Pregó a càrrec de Bruno Oro - Cerimònia d'inici de la Festa Maj
 or
DTSTART;TZID=Europe/Madrid;VALUE=DATE-TIME:20240817T193000
DTEND;TZID=Europe/Madrid;VALUE=DATE-TIME:20240817T203000
DTSTAMP;VALUE=DATE-TIME:20260421T160502Z
UID:da39c8be3b4946fcbee2a135cb009570@www.molletvalles.cat
CREATED;VALUE=DATE-TIME:20240816T104252Z
LAST-MODIFIED;VALUE=DATE-TIME:20240816T104607Z
LOCATION:Plaça Prat de la Riba
URL:https://www.molletvalles.cat/ca/l-ajuntament/lalcaldessa/agenda/prego-
 a-carrec-de-bruno-oro-cerimonia-dinici-de-la-festa-major
END:VEVENT
BEGIN:VTIMEZONE
TZID:Europe/Madrid
X-LIC-LOCATION:Europe/Madrid
BEGIN:DAYLIGHT
DTSTART;VALUE=DATE-TIME:20240331T030000
TZNAME:CEST
TZOFFSETFROM:+0100
TZOFFSETTO:+0200
END:DAYLIGHT
END:VTIMEZONE
END:VCALENDAR
