BEGIN:VCALENDAR
VERSION:2.0
PRODID:-//Plone.org//NONSGML plone.app.event//EN
X-WR-TIMEZONE:Europe/Madrid
BEGIN:VEVENT
SUMMARY:Presentació de la Comissió de treball de la programació del 15
 è aniversari de la defunció de Jordi Solé Tura
DTSTART;TZID=Europe/Madrid;VALUE=DATE-TIME:20230328T180000
DTEND;TZID=Europe/Madrid;VALUE=DATE-TIME:20230328T190000
DTSTAMP;VALUE=DATE-TIME:20260421T140709Z
UID:d3725533d82541a388d61d11f1da4412@www.molletvalles.cat
CREATED;VALUE=DATE-TIME:20230412T101415Z
LAST-MODIFIED;VALUE=DATE-TIME:20230412T101419Z
URL:https://www.molletvalles.cat/ca/l-ajuntament/lalcaldessa/agenda/presen
 tacio-de-la-comissio-de-treball-de-la-programacio-del-15e-aniversari-de-la
 -defuncio-de-jordi-sole-tura
END:VEVENT
BEGIN:VTIMEZONE
TZID:Europe/Madrid
X-LIC-LOCATION:Europe/Madrid
BEGIN:DAYLIGHT
DTSTART;VALUE=DATE-TIME:20230326T030000
TZNAME:CEST
TZOFFSETFROM:+0100
TZOFFSETTO:+0200
END:DAYLIGHT
END:VTIMEZONE
END:VCALENDAR
