BEGIN:VCALENDAR
VERSION:2.0
PRODID:-//Plone.org//NONSGML plone.app.event//EN
X-WR-TIMEZONE:Europe/Madrid
BEGIN:VEVENT
SUMMARY:Presentació de les plantilles del Club UD Lourdes
DTSTART;TZID=Europe/Madrid;VALUE=DATE-TIME:20240202T193000
DTEND;TZID=Europe/Madrid;VALUE=DATE-TIME:20240202T203000
DTSTAMP;VALUE=DATE-TIME:20260421T183929Z
UID:88d5a9b50cce44e3adbcb51346e2f2c9@www.molletvalles.cat
CREATED;VALUE=DATE-TIME:20240205T141802Z
LAST-MODIFIED;VALUE=DATE-TIME:20240205T141804Z
LOCATION:Camp municiapl Juan Bocanegra
URL:https://www.molletvalles.cat/ca/l-ajuntament/lalcaldessa/agenda/presen
 tacio-de-les-plantilles-del-club-ud-lourdes
END:VEVENT
BEGIN:VTIMEZONE
TZID:Europe/Madrid
X-LIC-LOCATION:Europe/Madrid
BEGIN:STANDARD
DTSTART;VALUE=DATE-TIME:20231029T020000
TZNAME:CET
TZOFFSETFROM:+0200
TZOFFSETTO:+0100
END:STANDARD
END:VTIMEZONE
END:VCALENDAR
