BEGIN:VCALENDAR
VERSION:2.0
PRODID:-//Plone.org//NONSGML plone.app.event//EN
X-WR-TIMEZONE:Europe/Madrid
BEGIN:VEVENT
SUMMARY:Presentació festa del ciclisme
DTSTART;TZID=Europe/Madrid;VALUE=DATE-TIME:20220922T133000
DTEND;TZID=Europe/Madrid;VALUE=DATE-TIME:20220922T143000
DTSTAMP;VALUE=DATE-TIME:20260425T125326Z
UID:d89c1038657447b88fd0ba33f76e6497@www.molletvalles.cat
CREATED;VALUE=DATE-TIME:20230201T142016Z
LAST-MODIFIED;VALUE=DATE-TIME:20230201T142019Z
LOCATION:Mollet del Vallès
URL:https://www.molletvalles.cat/ca/l-ajuntament/lalcaldessa/agenda/presen
 tacio-festa-del-ciclisme
END:VEVENT
BEGIN:VTIMEZONE
TZID:Europe/Madrid
X-LIC-LOCATION:Europe/Madrid
BEGIN:DAYLIGHT
DTSTART;VALUE=DATE-TIME:20220327T030000
TZNAME:CEST
TZOFFSETFROM:+0100
TZOFFSETTO:+0200
END:DAYLIGHT
END:VTIMEZONE
END:VCALENDAR
