BEGIN:VCALENDAR
VERSION:2.0
PRODID:-//Plone.org//NONSGML plone.app.event//EN
X-WR-TIMEZONE:Europe/Madrid
BEGIN:VEVENT
SUMMARY:Presentació UD Lourdes
DTSTART;TZID=Europe/Madrid;VALUE=DATE-TIME:20221216T190000
DTEND;TZID=Europe/Madrid;VALUE=DATE-TIME:20221216T203000
DTSTAMP;VALUE=DATE-TIME:20260425T134820Z
UID:c05ab2aa4fe647be82b7c0a6724e3f7e@www.molletvalles.cat
CREATED;VALUE=DATE-TIME:20230130T103053Z
LAST-MODIFIED;VALUE=DATE-TIME:20230130T103056Z
LOCATION:Camp Municipal Juan Bocanegra
URL:https://www.molletvalles.cat/ca/l-ajuntament/lalcaldessa/agenda/presen
 tacio-ud-lourdes
END:VEVENT
BEGIN:VTIMEZONE
TZID:Europe/Madrid
X-LIC-LOCATION:Europe/Madrid
BEGIN:STANDARD
DTSTART;VALUE=DATE-TIME:20221030T020000
TZNAME:CET
TZOFFSETFROM:+0200
TZOFFSETTO:+0100
END:STANDARD
END:VTIMEZONE
END:VCALENDAR
