BEGIN:VCALENDAR
VERSION:2.0
PRODID:-//Plone.org//NONSGML plone.app.event//EN
X-WR-TIMEZONE:Europe/Madrid
BEGIN:VEVENT
SUMMARY:Retransmissió final Champions femenina FC Barcelona
DTSTART;TZID=Europe/Madrid;VALUE=DATE-TIME:20230603T160000
DTEND;TZID=Europe/Madrid;VALUE=DATE-TIME:20230603T170000
DTSTAMP;VALUE=DATE-TIME:20260419T222943Z
UID:5520987ed6c440eb91a26e620ef85848@www.molletvalles.cat
CREATED;VALUE=DATE-TIME:20230602T115505Z
LAST-MODIFIED;VALUE=DATE-TIME:20230602T115510Z
LOCATION:Pista exterior Pavelló Riera Seca
URL:https://www.molletvalles.cat/ca/l-ajuntament/lalcaldessa/agenda/retran
 smissio-final-champions-femenina-fc-barcelona
END:VEVENT
BEGIN:VTIMEZONE
TZID:Europe/Madrid
X-LIC-LOCATION:Europe/Madrid
BEGIN:DAYLIGHT
DTSTART;VALUE=DATE-TIME:20230326T030000
TZNAME:CEST
TZOFFSETFROM:+0100
TZOFFSETTO:+0200
END:DAYLIGHT
END:VTIMEZONE
END:VCALENDAR
