BEGIN:VCALENDAR
VERSION:2.0
PRODID:-//Plone.org//NONSGML plone.app.event//EN
X-WR-TIMEZONE:Europe/Madrid
BEGIN:VEVENT
SUMMARY:Reunió amb altra administració
DTSTART;TZID=Europe/Madrid;VALUE=DATE-TIME:20230822T110000
DTEND;TZID=Europe/Madrid;VALUE=DATE-TIME:20230822T120000
DTSTAMP;VALUE=DATE-TIME:20260421T173653Z
UID:fbe919f0dce34eaeb2a9dccea0a3c8d2@www.molletvalles.cat
CREATED;VALUE=DATE-TIME:20230818T113354Z
LAST-MODIFIED;VALUE=DATE-TIME:20230818T113358Z
LOCATION:Mollet del Vallès
URL:https://www.molletvalles.cat/ca/l-ajuntament/lalcaldessa/agenda/reunio
 -amb-altra-administracio
END:VEVENT
BEGIN:VTIMEZONE
TZID:Europe/Madrid
X-LIC-LOCATION:Europe/Madrid
BEGIN:DAYLIGHT
DTSTART;VALUE=DATE-TIME:20230326T030000
TZNAME:CEST
TZOFFSETFROM:+0100
TZOFFSETTO:+0200
END:DAYLIGHT
END:VTIMEZONE
END:VCALENDAR
