BEGIN:VCALENDAR
VERSION:2.0
PRODID:-//Plone.org//NONSGML plone.app.event//EN
X-WR-TIMEZONE:Europe/Madrid
BEGIN:VEVENT
SUMMARY:Reunió amb Associació de Veïns i Veines
DTSTART;TZID=Europe/Madrid;VALUE=DATE-TIME:20230522T160000
DTEND;TZID=Europe/Madrid;VALUE=DATE-TIME:20230522T170000
DTSTAMP;VALUE=DATE-TIME:20260425T154714Z
UID:6faa30a349ec41dd93ec3adc76f0e8f9@www.molletvalles.cat
CREATED;VALUE=DATE-TIME:20230524T102446Z
LAST-MODIFIED;VALUE=DATE-TIME:20230524T102449Z
LOCATION:Ajuntament de Mollet del Vallès
URL:https://www.molletvalles.cat/ca/l-ajuntament/lalcaldessa/agenda/reunio
 -amb-associacio-de-veins-i-veines-1
END:VEVENT
BEGIN:VTIMEZONE
TZID:Europe/Madrid
X-LIC-LOCATION:Europe/Madrid
BEGIN:DAYLIGHT
DTSTART;VALUE=DATE-TIME:20230326T030000
TZNAME:CEST
TZOFFSETFROM:+0100
TZOFFSETTO:+0200
END:DAYLIGHT
END:VTIMEZONE
END:VCALENDAR
