BEGIN:VCALENDAR
VERSION:2.0
PRODID:-//Plone.org//NONSGML plone.app.event//EN
X-WR-TIMEZONE:Europe/Madrid
BEGIN:VEVENT
SUMMARY:Reunió amb ciutadania amb cita prèvia
DTSTART;TZID=Europe/Madrid;VALUE=DATE-TIME:20221025T110000
DTEND;TZID=Europe/Madrid;VALUE=DATE-TIME:20221025T120000
DTSTAMP;VALUE=DATE-TIME:20260419T165527Z
UID:9e56a774b68246e88c39e4a01902bd60@www.molletvalles.cat
CREATED;VALUE=DATE-TIME:20230131T150817Z
LAST-MODIFIED;VALUE=DATE-TIME:20230131T150820Z
LOCATION:Parc Plana Lledó
URL:https://www.molletvalles.cat/ca/l-ajuntament/lalcaldessa/agenda/reunio
 -amb-ciutadania-amb-cita-previa-10
END:VEVENT
BEGIN:VTIMEZONE
TZID:Europe/Madrid
X-LIC-LOCATION:Europe/Madrid
BEGIN:DAYLIGHT
DTSTART;VALUE=DATE-TIME:20220327T030000
TZNAME:CEST
TZOFFSETFROM:+0100
TZOFFSETTO:+0200
END:DAYLIGHT
END:VTIMEZONE
END:VCALENDAR
