BEGIN:VCALENDAR
VERSION:2.0
PRODID:-//Plone.org//NONSGML plone.app.event//EN
X-WR-TIMEZONE:Europe/Madrid
BEGIN:VEVENT
SUMMARY:Reunió amb ciutadania amb cita prèvia
DTSTART;TZID=Europe/Madrid;VALUE=DATE-TIME:20250703T160000
DTEND;TZID=Europe/Madrid;VALUE=DATE-TIME:20250703T170000
DTSTAMP;VALUE=DATE-TIME:20260419T233243Z
UID:eba9fb38a6f5471598cd858ea4152ec8@www.molletvalles.cat
CREATED;VALUE=DATE-TIME:20250704T055730Z
LAST-MODIFIED;VALUE=DATE-TIME:20250704T055806Z
LOCATION:Ajuntament Mollet del Vallès
URL:https://www.molletvalles.cat/ca/l-ajuntament/lalcaldessa/agenda/reunio
 -amb-ciutadania-amb-cita-previa-1751608650.177889
END:VEVENT
BEGIN:VTIMEZONE
TZID:Europe/Madrid
X-LIC-LOCATION:Europe/Madrid
BEGIN:DAYLIGHT
DTSTART;VALUE=DATE-TIME:20250330T030000
TZNAME:CEST
TZOFFSETFROM:+0100
TZOFFSETTO:+0200
END:DAYLIGHT
END:VTIMEZONE
END:VCALENDAR
