BEGIN:VCALENDAR
VERSION:2.0
PRODID:-//Plone.org//NONSGML plone.app.event//EN
X-WR-TIMEZONE:Europe/Madrid
BEGIN:VEVENT
SUMMARY:Reunió amb ciutadania amb cita previa
DTSTART;TZID=Europe/Madrid;VALUE=DATE-TIME:20220918T180000
DTEND;TZID=Europe/Madrid;VALUE=DATE-TIME:20220918T190000
DTSTAMP;VALUE=DATE-TIME:20260425T140334Z
UID:677dba68e439485fbe25d4c487faddaa@www.molletvalles.cat
CREATED;VALUE=DATE-TIME:20230202T110059Z
LAST-MODIFIED;VALUE=DATE-TIME:20230202T110102Z
LOCATION:Can Borrell
URL:https://www.molletvalles.cat/ca/l-ajuntament/lalcaldessa/agenda/reunio
 -amb-ciutadania-amb-cita-previa-20
END:VEVENT
BEGIN:VTIMEZONE
TZID:Europe/Madrid
X-LIC-LOCATION:Europe/Madrid
BEGIN:DAYLIGHT
DTSTART;VALUE=DATE-TIME:20220327T030000
TZNAME:CEST
TZOFFSETFROM:+0100
TZOFFSETTO:+0200
END:DAYLIGHT
END:VTIMEZONE
END:VCALENDAR
