BEGIN:VCALENDAR
VERSION:2.0
PRODID:-//Plone.org//NONSGML plone.app.event//EN
X-WR-TIMEZONE:Europe/Madrid
BEGIN:VEVENT
SUMMARY:Reunió amb ciutadania amb cita prèvia
DTSTART;TZID=Europe/Madrid;VALUE=DATE-TIME:20230303T123000
DTEND;TZID=Europe/Madrid;VALUE=DATE-TIME:20230303T133000
DTSTAMP;VALUE=DATE-TIME:20260421T140642Z
UID:1c41a482bc474721b2c17e9477d2123e@www.molletvalles.cat
CREATED;VALUE=DATE-TIME:20230301T132536Z
LAST-MODIFIED;VALUE=DATE-TIME:20230301T132539Z
LOCATION:Ajuntament de Mollet del Vallès
URL:https://www.molletvalles.cat/ca/l-ajuntament/lalcaldessa/agenda/reunio
 -amb-ciutadania-amb-cita-previa-36
END:VEVENT
BEGIN:VTIMEZONE
TZID:Europe/Madrid
X-LIC-LOCATION:Europe/Madrid
BEGIN:STANDARD
DTSTART;VALUE=DATE-TIME:20221030T020000
TZNAME:CET
TZOFFSETFROM:+0200
TZOFFSETTO:+0100
END:STANDARD
END:VTIMEZONE
END:VCALENDAR
