BEGIN:VCALENDAR
VERSION:2.0
PRODID:-//Plone.org//NONSGML plone.app.event//EN
X-WR-TIMEZONE:Europe/Madrid
BEGIN:VEVENT
SUMMARY:Reunió amb ciutadania amb cita prèvia
DTSTART;TZID=Europe/Madrid;VALUE=DATE-TIME:20230825T110000
DTEND;TZID=Europe/Madrid;VALUE=DATE-TIME:20230825T120000
DTSTAMP;VALUE=DATE-TIME:20260425T140333Z
UID:793b7be6a7db4c5dbe7f24c5fb49fc07@www.molletvalles.cat
CREATED;VALUE=DATE-TIME:20230818T115553Z
LAST-MODIFIED;VALUE=DATE-TIME:20230818T115557Z
LOCATION:Ajuntament de Mollet del Vallès
URL:https://www.molletvalles.cat/ca/l-ajuntament/lalcaldessa/agenda/reunio
 -amb-ciutadania-amb-cita-previa-59
END:VEVENT
BEGIN:VTIMEZONE
TZID:Europe/Madrid
X-LIC-LOCATION:Europe/Madrid
BEGIN:DAYLIGHT
DTSTART;VALUE=DATE-TIME:20230326T030000
TZNAME:CEST
TZOFFSETFROM:+0100
TZOFFSETTO:+0200
END:DAYLIGHT
END:VTIMEZONE
END:VCALENDAR
