BEGIN:VCALENDAR
VERSION:2.0
PRODID:-//Plone.org//NONSGML plone.app.event//EN
X-WR-TIMEZONE:Europe/Madrid
BEGIN:VEVENT
SUMMARY:Reunió amb ciutadania amb cita prèvia
DTSTART;TZID=Europe/Madrid;VALUE=DATE-TIME:20230928T180000
DTEND;TZID=Europe/Madrid;VALUE=DATE-TIME:20230928T190000
DTSTAMP;VALUE=DATE-TIME:20260425T140345Z
UID:9df1a170af7a4a3291137016bf0b0b3e@www.molletvalles.cat
CREATED;VALUE=DATE-TIME:20230926T083329Z
LAST-MODIFIED;VALUE=DATE-TIME:20230926T083333Z
LOCATION:Ajuntament de Mollet del Vallès
URL:https://www.molletvalles.cat/ca/l-ajuntament/lalcaldessa/agenda/reunio
 -amb-ciutadania-amb-cita-previa-60
END:VEVENT
BEGIN:VTIMEZONE
TZID:Europe/Madrid
X-LIC-LOCATION:Europe/Madrid
BEGIN:DAYLIGHT
DTSTART;VALUE=DATE-TIME:20230326T030000
TZNAME:CEST
TZOFFSETFROM:+0100
TZOFFSETTO:+0200
END:DAYLIGHT
END:VTIMEZONE
END:VCALENDAR
