BEGIN:VCALENDAR
VERSION:2.0
PRODID:-//Plone.org//NONSGML plone.app.event//EN
X-WR-TIMEZONE:Europe/Madrid
BEGIN:VEVENT
SUMMARY:Reunió amb entitat amb cita prèvia
DTSTART;TZID=Europe/Madrid;VALUE=DATE-TIME:20240223T103000
DTEND;TZID=Europe/Madrid;VALUE=DATE-TIME:20240223T113000
DTSTAMP;VALUE=DATE-TIME:20260421T140434Z
UID:a48027d86cc94a6b92c5fb6e41039ff9@www.molletvalles.cat
CREATED;VALUE=DATE-TIME:20240311T120020Z
LAST-MODIFIED;VALUE=DATE-TIME:20240311T120035Z
LOCATION:Ajuntament de Mollet del Vallès
URL:https://www.molletvalles.cat/ca/l-ajuntament/lalcaldessa/agenda/reunio
 -amb-entitat-amb-cita-previa-4
END:VEVENT
BEGIN:VTIMEZONE
TZID:Europe/Madrid
X-LIC-LOCATION:Europe/Madrid
BEGIN:STANDARD
DTSTART;VALUE=DATE-TIME:20231029T020000
TZNAME:CET
TZOFFSETFROM:+0200
TZOFFSETTO:+0100
END:STANDARD
END:VTIMEZONE
END:VCALENDAR
