BEGIN:VCALENDAR
VERSION:2.0
PRODID:-//Plone.org//NONSGML plone.app.event//EN
X-WR-TIMEZONE:Europe/Madrid
BEGIN:VEVENT
SUMMARY:Reunió amb entitat del municipi
DTSTART;TZID=Europe/Madrid;VALUE=DATE-TIME:20240418T100000
DTEND;TZID=Europe/Madrid;VALUE=DATE-TIME:20240418T110000
DTSTAMP;VALUE=DATE-TIME:20260425T140125Z
UID:58caa24ceb2a4c9ea2b24ca4ef64dafd@www.molletvalles.cat
CREATED;VALUE=DATE-TIME:20240416T160410Z
LAST-MODIFIED;VALUE=DATE-TIME:20240416T160412Z
LOCATION:Ajuntament de Mollet del Vallès
URL:https://www.molletvalles.cat/ca/l-ajuntament/lalcaldessa/agenda/reunio
 -amb-entitat-del-municipi
END:VEVENT
BEGIN:VTIMEZONE
TZID:Europe/Madrid
X-LIC-LOCATION:Europe/Madrid
BEGIN:DAYLIGHT
DTSTART;VALUE=DATE-TIME:20240331T030000
TZNAME:CEST
TZOFFSETFROM:+0100
TZOFFSETTO:+0200
END:DAYLIGHT
END:VTIMEZONE
END:VCALENDAR
