BEGIN:VCALENDAR
VERSION:2.0
PRODID:-//Plone.org//NONSGML plone.app.event//EN
X-WR-TIMEZONE:Europe/Madrid
BEGIN:VEVENT
SUMMARY:Reunió amb entitat esportiva amb cita prèvia
DTSTART;TZID=Europe/Madrid;VALUE=DATE-TIME:20240223T131500
DTEND;TZID=Europe/Madrid;VALUE=DATE-TIME:20240223T141500
DTSTAMP;VALUE=DATE-TIME:20260421T160458Z
UID:175a3bfeb8864a2ba9c94cfae4170fcb@www.molletvalles.cat
CREATED;VALUE=DATE-TIME:20240311T122417Z
LAST-MODIFIED;VALUE=DATE-TIME:20240311T122422Z
LOCATION:Ajuntament de Mollet del Vallès
URL:https://www.molletvalles.cat/ca/l-ajuntament/lalcaldessa/agenda/reunio
 -amb-entitat-esportiva-amb-cita-previa
END:VEVENT
BEGIN:VTIMEZONE
TZID:Europe/Madrid
X-LIC-LOCATION:Europe/Madrid
BEGIN:STANDARD
DTSTART;VALUE=DATE-TIME:20231029T020000
TZNAME:CET
TZOFFSETFROM:+0200
TZOFFSETTO:+0100
END:STANDARD
END:VTIMEZONE
END:VCALENDAR
