BEGIN:VCALENDAR
VERSION:2.0
PRODID:-//Plone.org//NONSGML plone.app.event//EN
X-WR-TIMEZONE:Europe/Madrid
BEGIN:VEVENT
SUMMARY:Reunió amb estudiants amb cita prèvia
DTSTART;TZID=Europe/Madrid;VALUE=DATE-TIME:20230518T173000
DTEND;TZID=Europe/Madrid;VALUE=DATE-TIME:20230518T183000
DTSTAMP;VALUE=DATE-TIME:20260425T154707Z
UID:f312998c1a094ea7a411406ca6746078@www.molletvalles.cat
CREATED;VALUE=DATE-TIME:20230516T110712Z
LAST-MODIFIED;VALUE=DATE-TIME:20230516T110715Z
LOCATION:Ajuntament de Mollet del Vallès
URL:https://www.molletvalles.cat/ca/l-ajuntament/lalcaldessa/agenda/reunio
 -amb-estudiants-amb-cita-previa
END:VEVENT
BEGIN:VTIMEZONE
TZID:Europe/Madrid
X-LIC-LOCATION:Europe/Madrid
BEGIN:DAYLIGHT
DTSTART;VALUE=DATE-TIME:20230326T030000
TZNAME:CEST
TZOFFSETFROM:+0100
TZOFFSETTO:+0200
END:DAYLIGHT
END:VTIMEZONE
END:VCALENDAR
