BEGIN:VCALENDAR
VERSION:2.0
PRODID:-//Plone.org//NONSGML plone.app.event//EN
X-WR-TIMEZONE:Europe/Madrid
BEGIN:VEVENT
SUMMARY:Reunió amb grup polític municipal
DTSTART;TZID=Europe/Madrid;VALUE=DATE-TIME:20220614T093000
DTEND;TZID=Europe/Madrid;VALUE=DATE-TIME:20220614T103000
DTSTAMP;VALUE=DATE-TIME:20260421T140418Z
UID:8ccd9bf31d764624903a69cc67711f27@www.molletvalles.cat
CREATED;VALUE=DATE-TIME:20230203T141548Z
LAST-MODIFIED;VALUE=DATE-TIME:20230203T141550Z
LOCATION:Ajuntament de Mollet del Vallès
URL:https://www.molletvalles.cat/ca/l-ajuntament/lalcaldessa/agenda/reunio
 -amb-grup-politic-municipal-4
END:VEVENT
BEGIN:VTIMEZONE
TZID:Europe/Madrid
X-LIC-LOCATION:Europe/Madrid
BEGIN:DAYLIGHT
DTSTART;VALUE=DATE-TIME:20220327T030000
TZNAME:CEST
TZOFFSETFROM:+0100
TZOFFSETTO:+0200
END:DAYLIGHT
END:VTIMEZONE
END:VCALENDAR
