BEGIN:VCALENDAR
VERSION:2.0
PRODID:-//Plone.org//NONSGML plone.app.event//EN
X-WR-TIMEZONE:Europe/Madrid
BEGIN:VEVENT
SUMMARY:Reunió amb grup polític municipal
DTSTART;TZID=Europe/Madrid;VALUE=DATE-TIME:20220712T120000
DTEND;TZID=Europe/Madrid;VALUE=DATE-TIME:20220712T130000
DTSTAMP;VALUE=DATE-TIME:20260419T144647Z
UID:ff27b283756f4f00a0d8e0ca4160e364@www.molletvalles.cat
CREATED;VALUE=DATE-TIME:20230203T124825Z
LAST-MODIFIED;VALUE=DATE-TIME:20230203T124828Z
LOCATION:Ajuntament de Mollet del Vallès
URL:https://www.molletvalles.cat/ca/l-ajuntament/lalcaldessa/agenda/reunio
 -amb-grup-politic-municipal
END:VEVENT
BEGIN:VTIMEZONE
TZID:Europe/Madrid
X-LIC-LOCATION:Europe/Madrid
BEGIN:DAYLIGHT
DTSTART;VALUE=DATE-TIME:20220327T030000
TZNAME:CEST
TZOFFSETFROM:+0100
TZOFFSETTO:+0200
END:DAYLIGHT
END:VTIMEZONE
END:VCALENDAR
