BEGIN:VCALENDAR
VERSION:2.0
PRODID:-//Plone.org//NONSGML plone.app.event//EN
X-WR-TIMEZONE:Europe/Madrid
BEGIN:VEVENT
SUMMARY:Reunió amb una organització
DTSTART;TZID=Europe/Madrid;VALUE=DATE-TIME:20230131T130000
DTEND;TZID=Europe/Madrid;VALUE=DATE-TIME:20230131T140000
DTSTAMP;VALUE=DATE-TIME:20260419T165044Z
UID:518ec87b22cf452b9e89d272a3802eac@www.molletvalles.cat
CREATED;VALUE=DATE-TIME:20230127T124927Z
LAST-MODIFIED;VALUE=DATE-TIME:20230127T124931Z
LOCATION:Mollet del Vallès
URL:https://www.molletvalles.cat/ca/l-ajuntament/lalcaldessa/agenda/reunio
 -amb-una-organitzacio
END:VEVENT
BEGIN:VTIMEZONE
TZID:Europe/Madrid
X-LIC-LOCATION:Europe/Madrid
BEGIN:STANDARD
DTSTART;VALUE=DATE-TIME:20221030T020000
TZNAME:CET
TZOFFSETFROM:+0200
TZOFFSETTO:+0100
END:STANDARD
END:VTIMEZONE
END:VCALENDAR
