BEGIN:VCALENDAR
VERSION:2.0
PRODID:-//Plone.org//NONSGML plone.app.event//EN
X-WR-TIMEZONE:Europe/Madrid
BEGIN:VEVENT
SUMMARY:Reunió de Govern
DTSTART;TZID=Europe/Madrid;VALUE=DATE-TIME:20240715T170000
DTEND;TZID=Europe/Madrid;VALUE=DATE-TIME:20240715T180000
DTSTAMP;VALUE=DATE-TIME:20260421T135511Z
UID:bbd982302ab241b18535e84cf093e1f7@www.molletvalles.cat
CREATED;VALUE=DATE-TIME:20240718T114220Z
LAST-MODIFIED;VALUE=DATE-TIME:20240718T114226Z
LOCATION:Ajuntament de Mollet del Vallès
URL:https://www.molletvalles.cat/ca/l-ajuntament/lalcaldessa/agenda/reunio
 -de-govern-12
END:VEVENT
BEGIN:VTIMEZONE
TZID:Europe/Madrid
X-LIC-LOCATION:Europe/Madrid
BEGIN:DAYLIGHT
DTSTART;VALUE=DATE-TIME:20240331T030000
TZNAME:CEST
TZOFFSETFROM:+0100
TZOFFSETTO:+0200
END:DAYLIGHT
END:VTIMEZONE
END:VCALENDAR
