BEGIN:VCALENDAR
VERSION:2.0
PRODID:-//Plone.org//NONSGML plone.app.event//EN
X-WR-TIMEZONE:Europe/Madrid
BEGIN:VEVENT
SUMMARY:Reunió de seguiment
DTSTART;TZID=Europe/Madrid;VALUE=DATE-TIME:20241230T093000
DTEND;TZID=Europe/Madrid;VALUE=DATE-TIME:20241230T110000
DTSTAMP;VALUE=DATE-TIME:20260425T135936Z
UID:811355867bdc43d182e7b85db71bcfce@www.molletvalles.cat
CREATED;VALUE=DATE-TIME:20241230T094416Z
LAST-MODIFIED;VALUE=DATE-TIME:20241230T094419Z
LOCATION:Ajuntament de Mollet del Vallès
URL:https://www.molletvalles.cat/ca/l-ajuntament/lalcaldessa/agenda/reunio
 -de-seguiment-3
END:VEVENT
BEGIN:VTIMEZONE
TZID:Europe/Madrid
X-LIC-LOCATION:Europe/Madrid
BEGIN:STANDARD
DTSTART;VALUE=DATE-TIME:20241027T020000
TZNAME:CET
TZOFFSETFROM:+0200
TZOFFSETTO:+0100
END:STANDARD
END:VTIMEZONE
END:VCALENDAR
