BEGIN:VCALENDAR
VERSION:2.0
PRODID:-//Plone.org//NONSGML plone.app.event//EN
X-WR-TIMEZONE:Europe/Madrid
BEGIN:VEVENT
SUMMARY:Reunió DG Afers Religiosos
DTSTART;TZID=Europe/Madrid;VALUE=DATE-TIME:20251009T093000
DTEND;TZID=Europe/Madrid;VALUE=DATE-TIME:20251009T103000
DTSTAMP;VALUE=DATE-TIME:20260421T155646Z
UID:d3e4a39045e64eec90e782ad289f38a1@www.molletvalles.cat
CREATED;VALUE=DATE-TIME:20251007T090624Z
LAST-MODIFIED;VALUE=DATE-TIME:20251007T090630Z
LOCATION:Ajuntament Mollet del Vallès
URL:https://www.molletvalles.cat/ca/l-ajuntament/lalcaldessa/agenda/reunio
 -dg-afers-religiosos
END:VEVENT
BEGIN:VTIMEZONE
TZID:Europe/Madrid
X-LIC-LOCATION:Europe/Madrid
BEGIN:DAYLIGHT
DTSTART;VALUE=DATE-TIME:20250330T030000
TZNAME:CEST
TZOFFSETFROM:+0100
TZOFFSETTO:+0200
END:DAYLIGHT
END:VTIMEZONE
END:VCALENDAR
