BEGIN:VCALENDAR
VERSION:2.0
PRODID:-//Plone.org//NONSGML plone.app.event//EN
X-WR-TIMEZONE:Europe/Madrid
BEGIN:VEVENT
SUMMARY:Roda de Premsa Habitatge
DTSTART;TZID=Europe/Madrid;VALUE=DATE-TIME:20260427T110000
DTEND;TZID=Europe/Madrid;VALUE=DATE-TIME:20260427T113000
DTSTAMP;VALUE=DATE-TIME:20260425T042831Z
UID:d6a0efa6727c4a15828f70b237154f77@www.molletvalles.cat
CREATED;VALUE=DATE-TIME:20260424T104730Z
LAST-MODIFIED;VALUE=DATE-TIME:20260424T104737Z
LOCATION:Ajuntament Mollet del Vallès
URL:https://www.molletvalles.cat/ca/l-ajuntament/lalcaldessa/agenda/roda-d
 e-premsa-habitatge
END:VEVENT
BEGIN:VTIMEZONE
TZID:Europe/Madrid
X-LIC-LOCATION:Europe/Madrid
BEGIN:DAYLIGHT
DTSTART;VALUE=DATE-TIME:20260329T030000
TZNAME:CEST
TZOFFSETFROM:+0100
TZOFFSETTO:+0200
END:DAYLIGHT
END:VTIMEZONE
END:VCALENDAR
