BEGIN:VCALENDAR
VERSION:2.0
PRODID:-//Plone.org//NONSGML plone.app.event//EN
X-WR-TIMEZONE:Europe/Madrid
BEGIN:VEVENT
SUMMARY:Ronda argagonesa fins el local social i Vino de Honor
DTSTART;TZID=Europe/Madrid;VALUE=DATE-TIME:20241012T124500
DTEND;TZID=Europe/Madrid;VALUE=DATE-TIME:20241012T134500
DTSTAMP;VALUE=DATE-TIME:20260419T220146Z
UID:27a36da5bc5b405caa9a1bcafad817e5@www.molletvalles.cat
CREATED;VALUE=DATE-TIME:20241023T075932Z
LAST-MODIFIED;VALUE=DATE-TIME:20241023T075939Z
URL:https://www.molletvalles.cat/ca/l-ajuntament/lalcaldessa/agenda/ronda-
 argagonesa-fins-el-local-social-i-vino-de-honor
END:VEVENT
BEGIN:VTIMEZONE
TZID:Europe/Madrid
X-LIC-LOCATION:Europe/Madrid
BEGIN:DAYLIGHT
DTSTART;VALUE=DATE-TIME:20240331T030000
TZNAME:CEST
TZOFFSETFROM:+0100
TZOFFSETTO:+0200
END:DAYLIGHT
END:VTIMEZONE
END:VCALENDAR
