BEGIN:VCALENDAR
VERSION:2.0
PRODID:-//Plone.org//NONSGML plone.app.event//EN
X-WR-TIMEZONE:Europe/Madrid
BEGIN:VEVENT
SUMMARY:Salutació grup musical Festival Mollet Music Week
DTSTART;TZID=Europe/Madrid;VALUE=DATE-TIME:20230711T190000
DTEND;TZID=Europe/Madrid;VALUE=DATE-TIME:20230711T200000
DTSTAMP;VALUE=DATE-TIME:20260425T154848Z
UID:2b1ae98ac4a54b6dbe86e7223fe96ff5@www.molletvalles.cat
CREATED;VALUE=DATE-TIME:20230714T081042Z
LAST-MODIFIED;VALUE=DATE-TIME:20230714T081045Z
URL:https://www.molletvalles.cat/ca/l-ajuntament/lalcaldessa/agenda/saluta
 cio-grup-musical-festival-mollet-music-week-1
END:VEVENT
BEGIN:VTIMEZONE
TZID:Europe/Madrid
X-LIC-LOCATION:Europe/Madrid
BEGIN:DAYLIGHT
DTSTART;VALUE=DATE-TIME:20230326T030000
TZNAME:CEST
TZOFFSETFROM:+0100
TZOFFSETTO:+0200
END:DAYLIGHT
END:VTIMEZONE
END:VCALENDAR
