BEGIN:VCALENDAR
VERSION:2.0
PRODID:-//Plone.org//NONSGML plone.app.event//EN
X-WR-TIMEZONE:Europe/Madrid
BEGIN:VEVENT
SUMMARY:Salutació grup musical Festival Mollet Music Week
DTSTART;TZID=Europe/Madrid;VALUE=DATE-TIME:20230714T203000
DTEND;TZID=Europe/Madrid;VALUE=DATE-TIME:20230714T213000
DTSTAMP;VALUE=DATE-TIME:20260425T154842Z
UID:a82ef912694042099376b1bc53191c07@www.molletvalles.cat
CREATED;VALUE=DATE-TIME:20230721T114214Z
LAST-MODIFIED;VALUE=DATE-TIME:20230721T114216Z
URL:https://www.molletvalles.cat/ca/l-ajuntament/lalcaldessa/agenda/saluta
 cio-grup-musical-festival-mollet-music-week-3
END:VEVENT
BEGIN:VTIMEZONE
TZID:Europe/Madrid
X-LIC-LOCATION:Europe/Madrid
BEGIN:DAYLIGHT
DTSTART;VALUE=DATE-TIME:20230326T030000
TZNAME:CEST
TZOFFSETFROM:+0100
TZOFFSETTO:+0200
END:DAYLIGHT
END:VTIMEZONE
END:VCALENDAR
