BEGIN:VCALENDAR
VERSION:2.0
PRODID:-//Plone.org//NONSGML plone.app.event//EN
X-WR-TIMEZONE:Europe/Madrid
BEGIN:VEVENT
SUMMARY:Salutació grup musical Festival Mollet Music Week
DTSTART;TZID=Europe/Madrid;VALUE=DATE-TIME:20230712T203000
DTEND;TZID=Europe/Madrid;VALUE=DATE-TIME:20230712T213000
DTSTAMP;VALUE=DATE-TIME:20260425T154817Z
UID:4a700d154b3e46b099d3cd4fcb2e02ab@www.molletvalles.cat
CREATED;VALUE=DATE-TIME:20230714T080923Z
LAST-MODIFIED;VALUE=DATE-TIME:20230714T080926Z
URL:https://www.molletvalles.cat/ca/l-ajuntament/lalcaldessa/agenda/saluta
 cio-grup-musical-festival-mollet-music-week
END:VEVENT
BEGIN:VTIMEZONE
TZID:Europe/Madrid
X-LIC-LOCATION:Europe/Madrid
BEGIN:DAYLIGHT
DTSTART;VALUE=DATE-TIME:20230326T030000
TZNAME:CEST
TZOFFSETFROM:+0100
TZOFFSETTO:+0200
END:DAYLIGHT
END:VTIMEZONE
END:VCALENDAR
