BEGIN:VCALENDAR
VERSION:2.0
PRODID:-//Plone.org//NONSGML plone.app.event//EN
X-WR-TIMEZONE:Europe/Madrid
BEGIN:VEVENT
SUMMARY:Signatura conveni\, Alexia Putellas\, Eleven Foundation
DTSTART;TZID=Europe/Madrid;VALUE=DATE-TIME:20240606T173000
DTEND;TZID=Europe/Madrid;VALUE=DATE-TIME:20240606T180000
DTSTAMP;VALUE=DATE-TIME:20260419T165308Z
UID:cb0970c4072e4bbb8e6821cf970506d4@www.molletvalles.cat
CREATED;VALUE=DATE-TIME:20240606T161239Z
LAST-MODIFIED;VALUE=DATE-TIME:20240606T161445Z
URL:https://www.molletvalles.cat/ca/l-ajuntament/lalcaldessa/agenda/signat
 ura-conveni-alexia-putellas-eleven-foundation
END:VEVENT
BEGIN:VTIMEZONE
TZID:Europe/Madrid
X-LIC-LOCATION:Europe/Madrid
BEGIN:DAYLIGHT
DTSTART;VALUE=DATE-TIME:20240331T030000
TZNAME:CEST
TZOFFSETFROM:+0100
TZOFFSETTO:+0200
END:DAYLIGHT
END:VTIMEZONE
END:VCALENDAR
