BEGIN:VCALENDAR
VERSION:2.0
PRODID:-//Plone.org//NONSGML plone.app.event//EN
X-WR-TIMEZONE:Europe/Madrid
BEGIN:VEVENT
SUMMARY:Trobada amb ciutadania amb cita prèvia
DTSTART;TZID=Europe/Madrid;VALUE=DATE-TIME:20231222T171500
DTEND;TZID=Europe/Madrid;VALUE=DATE-TIME:20231222T181500
DTSTAMP;VALUE=DATE-TIME:20260425T174237Z
UID:00fa7f93b5fa418abac9645564077459@www.molletvalles.cat
CREATED;VALUE=DATE-TIME:20231221T135102Z
LAST-MODIFIED;VALUE=DATE-TIME:20231221T135105Z
LOCATION:Mollet del Vallès
URL:https://www.molletvalles.cat/ca/l-ajuntament/lalcaldessa/agenda/trobad
 a-amb-ciutadania-amb-cita-previa-1
END:VEVENT
BEGIN:VTIMEZONE
TZID:Europe/Madrid
X-LIC-LOCATION:Europe/Madrid
BEGIN:STANDARD
DTSTART;VALUE=DATE-TIME:20231029T020000
TZNAME:CET
TZOFFSETFROM:+0200
TZOFFSETTO:+0100
END:STANDARD
END:VTIMEZONE
END:VCALENDAR
