BEGIN:VCALENDAR
VERSION:2.0
PRODID:-//Plone.org//NONSGML plone.app.event//EN
X-WR-TIMEZONE:Europe/Madrid
BEGIN:VEVENT
SUMMARY:Visita a una escola del municipi
DTSTART;TZID=Europe/Madrid;VALUE=DATE-TIME:20220714T081500
DTEND;TZID=Europe/Madrid;VALUE=DATE-TIME:20220714T090000
DTSTAMP;VALUE=DATE-TIME:20260421T140542Z
UID:825776ab94444aa4abe7b9611ced70ba@www.molletvalles.cat
CREATED;VALUE=DATE-TIME:20230203T123700Z
LAST-MODIFIED;VALUE=DATE-TIME:20230203T123702Z
LOCATION:Mollet del Vallès
URL:https://www.molletvalles.cat/ca/l-ajuntament/lalcaldessa/agenda/visita
 -a-una-escola-del-municipi-2
END:VEVENT
BEGIN:VTIMEZONE
TZID:Europe/Madrid
X-LIC-LOCATION:Europe/Madrid
BEGIN:DAYLIGHT
DTSTART;VALUE=DATE-TIME:20220327T030000
TZNAME:CEST
TZOFFSETFROM:+0100
TZOFFSETTO:+0200
END:DAYLIGHT
END:VTIMEZONE
END:VCALENDAR
