BEGIN:VCALENDAR
VERSION:2.0
PRODID:-//Plone.org//NONSGML plone.app.event//EN
X-WR-TIMEZONE:Europe/Madrid
BEGIN:VEVENT
SUMMARY:Visita amb ciutadania amb cita prèvia
DTSTART;TZID=Europe/Madrid;VALUE=DATE-TIME:20230317T120000
DTEND;TZID=Europe/Madrid;VALUE=DATE-TIME:20230317T130000
DTSTAMP;VALUE=DATE-TIME:20260425T140312Z
UID:440115487333497387eaf329b8a36b20@www.molletvalles.cat
CREATED;VALUE=DATE-TIME:20230314T044828Z
LAST-MODIFIED;VALUE=DATE-TIME:20230314T044831Z
URL:https://www.molletvalles.cat/ca/l-ajuntament/lalcaldessa/agenda/visita
 -amb-ciutadania-amb-cita-previa
END:VEVENT
BEGIN:VTIMEZONE
TZID:Europe/Madrid
X-LIC-LOCATION:Europe/Madrid
BEGIN:STANDARD
DTSTART;VALUE=DATE-TIME:20221030T020000
TZNAME:CET
TZOFFSETFROM:+0200
TZOFFSETTO:+0100
END:STANDARD
END:VTIMEZONE
END:VCALENDAR
