BEGIN:VCALENDAR
VERSION:2.0
PRODID:-//Plone.org//NONSGML plone.app.event//EN
X-WR-TIMEZONE:Europe/Madrid
BEGIN:VEVENT
SUMMARY:Visita amb el Carnestoltes a les escoles de la ciutat
DTSTART;TZID=Europe/Madrid;VALUE=DATE-TIME:20250226T113000
DTEND;TZID=Europe/Madrid;VALUE=DATE-TIME:20250226T123000
DTSTAMP;VALUE=DATE-TIME:20260421T175036Z
UID:9e67351c9a314a47a3405e3068a0a3be@www.molletvalles.cat
CREATED;VALUE=DATE-TIME:20250306T130228Z
LAST-MODIFIED;VALUE=DATE-TIME:20250306T130233Z
LOCATION:Escola Can Vila
URL:https://www.molletvalles.cat/ca/l-ajuntament/lalcaldessa/agenda/visita
 -amb-el-carnestoltes-a-les-escoles-de-la-ciutat-2
END:VEVENT
BEGIN:VTIMEZONE
TZID:Europe/Madrid
X-LIC-LOCATION:Europe/Madrid
BEGIN:STANDARD
DTSTART;VALUE=DATE-TIME:20241027T020000
TZNAME:CET
TZOFFSETFROM:+0200
TZOFFSETTO:+0100
END:STANDARD
END:VTIMEZONE
END:VCALENDAR
