BEGIN:VCALENDAR
VERSION:2.0
PRODID:-//Plone.org//NONSGML plone.app.event//EN
X-WR-TIMEZONE:Europe/Madrid
BEGIN:VEVENT
SUMMARY:Visita ciutadania amb cita prèvia
DTSTART;TZID=Europe/Madrid;VALUE=DATE-TIME:20221129T110000
DTEND;TZID=Europe/Madrid;VALUE=DATE-TIME:20221129T120000
DTSTAMP;VALUE=DATE-TIME:20260425T140214Z
UID:33c5826402464481b0f15af7dc150d12@www.molletvalles.cat
CREATED;VALUE=DATE-TIME:20230130T113211Z
LAST-MODIFIED;VALUE=DATE-TIME:20230130T113214Z
LOCATION:Ajuntament de Mollet del Vallès
URL:https://www.molletvalles.cat/ca/l-ajuntament/lalcaldessa/agenda/visita
 -ciutadania-amb-cita-previa
END:VEVENT
BEGIN:VTIMEZONE
TZID:Europe/Madrid
X-LIC-LOCATION:Europe/Madrid
BEGIN:STANDARD
DTSTART;VALUE=DATE-TIME:20221030T020000
TZNAME:CET
TZOFFSETFROM:+0200
TZOFFSETTO:+0100
END:STANDARD
END:VTIMEZONE
END:VCALENDAR
