BEGIN:VCALENDAR
VERSION:2.0
PRODID:-//Plone.org//NONSGML plone.app.event//EN
X-WR-TIMEZONE:Europe/Madrid
BEGIN:VEVENT
SUMMARY:XIV Open Billar Americà
DTSTART;TZID=Europe/Madrid;VALUE=DATE-TIME:20240726T193000
DTEND;TZID=Europe/Madrid;VALUE=DATE-TIME:20240726T203000
DTSTAMP;VALUE=DATE-TIME:20260421T135514Z
UID:772665e4d49544d491fc9bce78067c5c@www.molletvalles.cat
CREATED;VALUE=DATE-TIME:20240726T114314Z
LAST-MODIFIED;VALUE=DATE-TIME:20240726T114317Z
LOCATION:CC Mercat Vell
URL:https://www.molletvalles.cat/ca/l-ajuntament/lalcaldessa/agenda/xiv-op
 en-billar-america
END:VEVENT
BEGIN:VTIMEZONE
TZID:Europe/Madrid
X-LIC-LOCATION:Europe/Madrid
BEGIN:DAYLIGHT
DTSTART;VALUE=DATE-TIME:20240331T030000
TZNAME:CEST
TZOFFSETFROM:+0100
TZOFFSETTO:+0200
END:DAYLIGHT
END:VTIMEZONE
END:VCALENDAR
