BEGIN:VCALENDAR
VERSION:2.0
PRODID:-//Plone.org//NONSGML plone.app.event//EN
X-WR-TIMEZONE:Europe/Madrid
BEGIN:VEVENT
SUMMARY:Inauguració XLII Festa de les Nacionalitats i Comunitats Autònom
 es
DTSTART;TZID=Europe/Madrid;VALUE=DATE-TIME:20230602T200000
DTEND;TZID=Europe/Madrid;VALUE=DATE-TIME:20230602T210000
DTSTAMP;VALUE=DATE-TIME:20260421T160210Z
UID:84aaedd27f4244f9b5955e5769001e9a@www.molletvalles.cat
CREATED;VALUE=DATE-TIME:20230602T110800Z
LAST-MODIFIED;VALUE=DATE-TIME:20230602T115844Z
LOCATION:Pati Can Gomà
URL:https://www.molletvalles.cat/ca/l-ajuntament/lalcaldessa/agenda/xlii-f
 esta-d-eles-nacionalitats-i-comunitats-autonomes
END:VEVENT
BEGIN:VTIMEZONE
TZID:Europe/Madrid
X-LIC-LOCATION:Europe/Madrid
BEGIN:DAYLIGHT
DTSTART;VALUE=DATE-TIME:20230326T030000
TZNAME:CEST
TZOFFSETFROM:+0100
TZOFFSETTO:+0200
END:DAYLIGHT
END:VTIMEZONE
END:VCALENDAR
